BEGIN:VCALENDAR
VERSION:2.0
PRODID:-//Squarespace Inc/Squarespace 6//v6//EN
BEGIN:VEVENT
UID:5a362a20652dea7bc2ff6648@squarespace.com
DTSTAMP:20180106T045208Z
DTSTART:20180119T093000Z
DTEND:20180119T103000Z
SUMMARY:PWA Black Label: Lock\, Stock and TOO SWEET Barrels! 
GEO:-33.814372;151.000984
LOCATION:Parramatta RSL\, 2-12 Macquarie Street\, Parramatta\, NSW\, 2150\, 
 Australia
END:VEVENT
END:VCALENDAR
