BEGIN:VCALENDAR
VERSION:2.0
PRODID:-//Squarespace Inc/Squarespace 6//v6//EN
BEGIN:VEVENT
UID:59348f5ba5790ab1c7fdb2c1@squarespace.com
DTSTAMP:20170623T044138Z
DTSTART:20170521T033000Z
DTEND:20170521T060000Z
SUMMARY:Live Pro Wrestling at Rooty Hill RSL
GEO:-33.770143;150.833422
LOCATION:Rooty Hill RSL\, 55 Sherbrooke Street\, Rooty Hill\, NSW\, 2766\, 
 Australia
END:VEVENT
END:VCALENDAR
