BEGIN:VCALENDAR
VERSION:2.0
PRODID:-//Squarespace Inc/Squarespace 6//v6//EN
BEGIN:VEVENT
UID:58f7ea9329687fff596d134b@squarespace.com
DTSTAMP:20170623T042735Z
DTSTART:20170707T093000Z
DTEND:20170707T123000Z
SUMMARY:Live Pro Wrestling at Rooty Hill RSL
GEO:-33.770143;150.833422
LOCATION:Rooty Hill RSL\, 55 Sherbrooke Street\, Rooty Hill\, NSW\, 2766\, 
 Australia
END:VEVENT
END:VCALENDAR
