BEGIN:VCALENDAR
VERSION:2.0
PRODID:-//Squarespace Inc/Squarespace 6//v6//EN
BEGIN:VEVENT
UID:5b04867a8a922dde1dd5995d@squarespace.com
DTSTAMP:20180522T211818Z
DTSTART:20180616T090000Z
DTEND:20180616T120000Z
SUMMARY:PWA Black Label: We sold our souls to rock and robbie
GEO:-33.894046;151.225074
LOCATION:Max Watt's
END:VEVENT
END:VCALENDAR
