BEGIN:VCALENDAR
VERSION:2.0
PRODID:-//Squarespace Inc/Squarespace 6//v6//EN
BEGIN:VEVENT
UID:5d4c3aae01acb50001776200@squarespace.com
DTSTAMP:20190808T151730Z
DTSTART:20190830T100000Z
DTEND:20190830T130000Z
SUMMARY:PWA Black Label - Break their Backs and make them Rumble!
GEO:-33.89393;151.225112
LOCATION:Max Watts Sydney
END:VEVENT
END:VCALENDAR
