BEGIN:VCALENDAR
VERSION:2.0
PRODID:-//Squarespace Inc/Squarespace 6//v6//EN
BEGIN:VEVENT
UID:5c9e16439b747a16c0fb7152@squarespace.com
DTSTAMP:20190409T094537Z
DTSTART:20190510T100000Z
DTEND:20190510T130000Z
SUMMARY:PWA Black Label - Once upon a time in Max Watts
GEO:-33.89393;151.225112
LOCATION:max watts sydney
END:VEVENT
END:VCALENDAR
