BEGIN:VCALENDAR
VERSION:2.0
PRODID:-//Squarespace Inc/Squarespace 6//v6//EN
BEGIN:VEVENT
UID:5db82efb4227324f391a019a@squarespace.com
DTSTAMP:20200110T001514Z
DTSTART:20191214T090000Z
DTEND:20191214T120000Z
SUMMARY:PWA Black Label &amp\; Fale Dojo - Liger Down Under
GEO:-33.905679;151.165213
LOCATION:Factory Theatre\, Sydney
END:VEVENT
END:VCALENDAR
