BEGIN:VCALENDAR
VERSION:2.0
PRODID:-//Squarespace Inc/Squarespace 6//v6//EN
BEGIN:VEVENT
UID:5cdb3aafde97490001b54e88@squarespace.com
DTSTAMP:20190514T220716Z
DTSTART:20190609T070000Z
DTEND:20190609T100000Z
SUMMARY:PWA Green Label - Let them fight!
GEO:-33.887618;151.159357
LOCATION:Crowbar\, Sydney
END:VEVENT
END:VCALENDAR
