BEGIN:VCALENDAR
VERSION:2.0
PRODID:-//Squarespace Inc/Squarespace 6//v6//EN
BEGIN:VEVENT
UID:5d751f39a677d754f451a7a1@squarespace.com
DTSTAMP:20190908T161341Z
DTSTART:20191018T090000Z
DTEND:20191018T120000Z
SUMMARY:PWA Black Label - Colosseum 2019 - Night 1
GEO:-33.89393;151.225112
LOCATION:Max Watts Sydney
END:VEVENT
END:VCALENDAR
