BEGIN:VCALENDAR
VERSION:2.0
PRODID:-//Squarespace Inc/Squarespace 6//v6//EN
BEGIN:VEVENT
UID:59a8efeac027d8b6d602e10c@squarespace.com
DTSTAMP:20170901T053709Z
DTSTART:20170930T090000Z
DTEND:20170930T113000Z
SUMMARY:Live Pro Wrestling at Casula Powerhouse
GEO:-33.950317;150.909117
LOCATION:Casula Powerhouse\, 1 Powerhouse Road\, Casula\, Casula\, NSW\, 21
 70\, Australia
END:VEVENT
END:VCALENDAR
