BEGIN:VCALENDAR
VERSION:2.0
PRODID:-//Squarespace Inc/Squarespace 6//v6//EN
BEGIN:VEVENT
UID:5d0ae17ba44d030001e337fa@squarespace.com
DTSTAMP:20190620T013527Z
DTSTART:20190727T100000Z
DTEND:20190727T130000Z
SUMMARY:PWA Black Label - Call to Arms 2019 PWA's 12 Year Anniversary
GEO:-33.89393;151.225112
LOCATION:Max Watts\, Sydney
END:VEVENT
END:VCALENDAR
