BEGIN:VCALENDAR
VERSION:2.0
PRODID:-//Squarespace Inc/Squarespace 6//v6//EN
BEGIN:VEVENT
UID:5e1bc7644c275445aae725d6@squarespace.com
DTSTAMP:20200223T224902Z
DTSTART:20200215T090000Z
DTEND:20200215T120000Z
SUMMARY:PWA Black Label - Rick South for the Boys
GEO:-33.89393;151.225112
LOCATION:Max Watt's House of Music Sydney
END:VEVENT
END:VCALENDAR
