BEGIN:VCALENDAR
VERSION:2.0
PRODID:-//Squarespace Inc/Squarespace 6//v6//EN
BEGIN:VEVENT
UID:5a99dc7e9140b7602d435e21@squarespace.com
DTSTAMP:20180522T210706Z
DTSTART:20180423T100000Z
DTEND:20180423T130000Z
SUMMARY:PROGRESS X PWA
GEO:-33.867971;151.19521
LOCATION:The Star Event Centre
END:VEVENT
END:VCALENDAR
