BEGIN:VCALENDAR
VERSION:2.0
PRODID:-//Squarespace Inc/Squarespace 6//v6//EN
BEGIN:VEVENT
UID:5db82e0148dca06f693b354b@squarespace.com
DTSTAMP:20191029T122212Z
DTSTART:20191207T090000Z
DTEND:20191207T120000Z
SUMMARY:PWA Black Label - The Prefects 18th Birthday Party
GEO:-33.89393;151.225112
LOCATION:Max Watts\, Sydney
END:VEVENT
END:VCALENDAR
