BEGIN:VCALENDAR
VERSION:2.0
PRODID:-//Squarespace Inc/Squarespace 6//v6//EN
BEGIN:VEVENT
UID:5a362b0824a6949ae3e9d8cc@squarespace.com
DTSTAMP:20180122T204813Z
DTSTART:20180203T083000Z
DTEND:20180203T093000Z
SUMMARY:PWA Black Label: O'Doylo-Rules! 
GEO:-33.197125;151.526104
LOCATION:The Doylo
END:VEVENT
END:VCALENDAR
