BEGIN:VCALENDAR
VERSION:2.0
PRODID:-//Squarespace Inc/Squarespace 6//v6//EN
BEGIN:VEVENT
UID:5843f24c6a4963f159b26701@squarespace.com
DTSTAMP:20161204T105531Z
DTSTART:20170122T023000Z
DTEND:20170122T053000Z
SUMMARY:Live Pro Wrestling at Rooty Hill RSL
GEO:-33.770143;150.833422
LOCATION:Rooty Hill RSL\, 55 Sherbrooke Street\, Rooty Hill\, NSW\, 2766\, 
 Australia
END:VEVENT
END:VCALENDAR
