BEGIN:VCALENDAR
VERSION:2.0
PRODID:-//Squarespace Inc/Squarespace 6//v6//EN
BEGIN:VEVENT
UID:5e4a218c3c65953c68ed438b@squarespace.com
DTSTAMP:20200223T230659Z
DTSTART:20200229T083000Z
DTEND:20200229T113000Z
SUMMARY:Pro Wrestling Academy: The House is Light
GEO:-33.989719;150.865037
LOCATION:Pro Wrestling Academy\, 16/19 Aero Road\, Ingleburn\, NSW\, 2565\, 
 Australia
END:VEVENT
END:VCALENDAR
