BEGIN:VCALENDAR
VERSION:2.0
PRODID:-//Squarespace Inc/Squarespace 6//v6//EN
BEGIN:VEVENT
UID:5bce577d15fcc001b87fb59e@squarespace.com
DTSTAMP:20181106T014239Z
DTSTART:20181207T090000Z
DTEND:20181207T120000Z
SUMMARY:PWA Black Label - Friday's are for the Babes 2018
GEO:-33.89393;151.225112
LOCATION:Max Watts\, Sydney
END:VEVENT
END:VCALENDAR
