BEGIN:VCALENDAR
VERSION:2.0
PRODID:-//Squarespace Inc/Squarespace 6//v6//EN
BEGIN:VEVENT
UID:59d713647131a5cab6f15ee5@squarespace.com
DTSTAMP:20171006T052724Z
DTSTART:20171007T080000Z
DTEND:20171007T103000Z
SUMMARY:PWA - Release the Quacken-Bush
GEO:-33.884754;151.225604
LOCATION:Paddington RSL
END:VEVENT
END:VCALENDAR
