BEGIN:VCALENDAR
VERSION:2.0
PRODID:-//Squarespace Inc/Squarespace 6//v6//EN
BEGIN:VEVENT
UID:5c3ddcee4fa51aa1119b5b34@squarespace.com
DTSTAMP:20190116T011502Z
DTSTART:20190222T090000Z
DTEND:20190222T120000Z
SUMMARY:PWA BLack Label - The Fight for Black Metal
GEO:-33.89393;151.225112
LOCATION:Max Watts\, Sydney
END:VEVENT
END:VCALENDAR
