BEGIN:VCALENDAR
VERSION:2.0
PRODID:-//Squarespace Inc/Squarespace 6//v6//EN
BEGIN:VEVENT
UID:5cd8100bc49ce70001f64fe7@squarespace.com
DTSTAMP:20190516T085708Z
DTSTART:20190614T100000Z
DTEND:20190614T130000Z
SUMMARY:PWA Black Label - All Eyez on Troy!
GEO:-33.89393;151.225112
LOCATION:Max Watts\, Sydney
END:VEVENT
END:VCALENDAR
