BEGIN:VCALENDAR
VERSION:2.0
PRODID:-//Squarespace Inc/Squarespace 6//v6//EN
BEGIN:VEVENT
UID:579d59b98419c2591c57cb27@squarespace.com
DTSTAMP:20161003T095014Z
DTSTART:20161009T023000Z
DTEND:20161009T050000Z
SUMMARY:Live Pro Wrestling at Rooty Hill RSL
GEO:-33.770143;150.833422
LOCATION:Rooty Hill RSL\, 55 Sherbrooke Street\, Rooty Hill\, NSW\, 2766\, 
 Australia
END:VEVENT
END:VCALENDAR
