BEGIN:VCALENDAR
VERSION:2.0
PRODID:-//Squarespace Inc/Squarespace 6//v6//EN
BEGIN:VEVENT
UID:57ea4c173e00be230d2e5a60@squarespace.com
DTSTAMP:20180911T090659Z
DTSTART:20161119T073000Z
DTEND:20161119T103000Z
SUMMARY:PWA presents 'Terminus'
GEO:-34.034255;150.761386
LOCATION:Maximum Skating\, 75 Anderson Road\, Smeaton Grange\, NSW\, 2567\, 
 Australia
END:VEVENT
END:VCALENDAR
