BEGIN:VCALENDAR
VERSION:2.0
PRODID:-//Squarespace Inc/Squarespace 6//v6//EN
BEGIN:VEVENT
UID:57a6afe0579fb3dbed16c4f7@squarespace.com
DTSTAMP:20161001T053912Z
DTSTART:20161001T080000Z
DTEND:20161001T110000Z
SUMMARY:Suicide Dive Squad
GEO:-33.95193;150.90538
LOCATION:Casula Powerhouse\, 1 Powerhouse Road\, Casula\, Australia
END:VEVENT
END:VCALENDAR
